BEGIN:VCALENDAR
VERSION:2.0
PRODID:spatie/icalendar-generator
NAME:Nivon Activiteit
X-WR-CALNAME:Nivon Activiteit
BEGIN:VTIMEZONE
TZID:UTC
BEGIN:STANDARD
DTSTART:20250728T123655
TZOFFSETFROM:+0000
TZOFFSETTO:+0000
END:STANDARD
END:VTIMEZONE
BEGIN:VEVENT
UID:69eb63e74c596
DTSTAMP:20260424T123655Z
SUMMARY:[Nivon Drechtsteden] Duurzaamheidsmarkt op De Kleine Rug
DESCRIPTION:Kom je ook?
LOCATION:Indische buurt (rond de Reeweg) - Navigeer op Loswalweg 2\, 3315 L
 B Dordrecht
DTSTART:20260607T110000Z
DTEND:20260607T150000Z
END:VEVENT
END:VCALENDAR